BEGIN:VCALENDAR
VERSION:2.0
PRODID:-//Tukios.com/
BEGIN:VEVENT
UID:49f449c0-abe6-4125-b52a-e6ae44b6d20d@www.hamlettdobson.com
DTSTAMP:20260420T163058Z
DTSTART:20260427T130000Z
DTEND:20260427T140000Z
SUMMARY:Graveside Service
DESCRIPTION:
URL:https://www.hamlettdobson.com/obituaries/clyde-wayne-taylor
LOCATION: 53 Memorial Ave  Mountain Home TN 37684
GEO:36.3096692;-82.3779195
END:VEVENT
END:VCALENDAR