BEGIN:VCALENDAR
VERSION:2.0
PRODID:-//Tukios.com/
BEGIN:VEVENT
UID:4e76eb87-910d-4b87-a261-1a3b1bf511a2@www.hamlettdobson.com
DTSTAMP:20260422T221010Z
DTSTART:20260425T210000Z
DTEND:20260425T230000Z
SUMMARY:Visitation
DESCRIPTION:
URL:https://www.hamlettdobson.com/obituaries/david-thomas
LOCATION: 117 E. Charlemont Avenue  Kingsport TN 37660
GEO:36.5496653;-82.5565827
END:VEVENT
END:VCALENDAR