BEGIN:VCALENDAR
VERSION:2.0
PRODID:-//Tukios.com/
BEGIN:VEVENT
UID:eda213a3-d4e3-4312-8ff7-c407b58de0d8@www.hamlettdobson.com
DTSTAMP:20260423T193829Z
DTSTART:20260427T150000Z
DTEND:20260427T160000Z
SUMMARY:Graveside Service
DESCRIPTION:
URL:https://www.hamlettdobson.com/obituaries/jim-guy
LOCATION: 2630 TN-75  Blountville TN 37617
GEO:36.4786412;-82.4139044
END:VEVENT
END:VCALENDAR