BEGIN:VCALENDAR
VERSION:2.0
PRODID:-//Tukios.com/
BEGIN:VEVENT
UID:c17448ce-f9f7-4385-8f24-b3f909e32931@www.hamlettdobson.com
DTSTAMP:20260425T000044Z
DTSTART:20260516T180000Z
DTEND:20260516T190000Z
SUMMARY:Memorial Service
DESCRIPTION:
URL:https://www.hamlettdobson.com/obituaries/marianna-morley
LOCATION:St. Paul’s Episcopal Church 161 East Ravine Road  Kingsport TN 
	37660
GEO:36.5492692;-82.552597
END:VEVENT
END:VCALENDAR