BEGIN:VCALENDAR
VERSION:2.0
PRODID:-//Tukios.com/
BEGIN:VEVENT
UID:43fb9671-907b-4731-96e2-84768fc9930a@www.hamlettdobson.com
DTSTAMP:20260425T000209Z
DTSTART:20260516T180000Z
DTEND:20260516T190000Z
SUMMARY:Visitation
DESCRIPTION:
URL:https://www.hamlettdobson.com/obituaries/marianna-morley
LOCATION:St. Paul’s Episcopal Church 161 East Ravine Road  Kingsport TN 
	37660
GEO:36.5492692;-82.552597
END:VEVENT
END:VCALENDAR