BEGIN:VCALENDAR
VERSION:2.0
PRODID:-//Tukios.com/
BEGIN:VEVENT
UID:b617a0d2-d0f9-4c8c-8ff6-0e35f3f13bb4@www.hamlettdobson.com
DTSTAMP:20260420T221848Z
DTSTART:20260424T210000Z
DTEND:20260424T230000Z
SUMMARY:Visitation
DESCRIPTION:
URL:https://www.hamlettdobson.com/obituaries/terry-fields
LOCATION: 2630 TN-75  Blountville TN 37617
GEO:36.4786412;-82.4139044
END:VEVENT
END:VCALENDAR