BEGIN:VCALENDAR
VERSION:2.0
PRODID:-//Tukios.com/
BEGIN:VEVENT
UID:4f838d84-6d3a-4eac-ab8b-dc1885c2c824@www.hamlettdobson.com
DTSTAMP:20260420T221755Z
DTSTART:20260425T150000Z
DTEND:20260425T160000Z
SUMMARY:Graveside Service
DESCRIPTION:
URL:https://www.hamlettdobson.com/obituaries/terry-fields
LOCATION: 2630 TN-75  Blountville TN 37617
GEO:36.4786412;-82.4139044
END:VEVENT
END:VCALENDAR