BEGIN:VCALENDAR
VERSION:2.0
PRODID:-//Tukios.com/
BEGIN:VEVENT
UID:ee5c852d-8978-48ad-8de3-44f2d7c530fc@www.hamlettdobson.com
DTSTAMP:20260422T201925Z
DTSTART:20260424T190000Z
DTEND:20260424T200000Z
SUMMARY:Visitation
DESCRIPTION:
URL:https://www.hamlettdobson.com/obituaries/thomas-tom-besco
LOCATION:First Baptist Church of Blountville 3358 Hwy 126  Blountville TN 
	37617
GEO:36.5337235;-82.3243111
END:VEVENT
END:VCALENDAR