BEGIN:VCALENDAR
VERSION:2.0
PRODID:-//Tukios.com/
BEGIN:VEVENT
UID:a45a88ef-5163-4bc7-b1e9-b754221bd978@www.hamlettdobson.com
DTSTAMP:20260422T220604Z
DTSTART:20260425T190000Z
DTEND:20260425T220000Z
SUMMARY:Visitation
DESCRIPTION:
URL:https://www.hamlettdobson.com/obituaries/toby-triplett
LOCATION: 117 E. Charlemont Avenue  Kingsport TN 37660
GEO:36.5496653;-82.5565827
END:VEVENT
END:VCALENDAR